BEGIN:VCALENDAR
VERSION:2.0
PRODID:-//Eesti Ujumisliit - ECPv6.2.0.1//NONSGML v1.0//EN
CALSCALE:GREGORIAN
METHOD:PUBLISH
X-ORIGINAL-URL:https://swimming.ee
X-WR-CALDESC:Events for Eesti Ujumisliit
REFRESH-INTERVAL;VALUE=DURATION:PT1H
X-Robots-Tag:noindex
X-PUBLISHED-TTL:PT1H
BEGIN:VTIMEZONE
TZID:UTC
BEGIN:STANDARD
TZOFFSETFROM:+0000
TZOFFSETTO:+0000
TZNAME:UTC
DTSTART:20250101T000000
END:STANDARD
END:VTIMEZONE
BEGIN:VEVENT
DTSTART;VALUE=DATE:20250602
DTEND;VALUE=DATE:20250606
DTSTAMP:20260422T114933
CREATED:20250105T092608Z
LAST-MODIFIED:20250321T081434Z
UID:7439-1748822400-1749167999@swimming.ee
SUMMARY:Euroopa meistrivõistlused kujundujumises
DESCRIPTION:
URL:https://swimming.ee/kalender/euroopa-meistrivoistlused-kujundujumises/
LOCATION:Funchal\, Funchal\, Portugal
CATEGORIES:Kujundujumine
ATTACH;FMTTYPE=image/jpeg:https://swimming.ee/wp-content/uploads/2023/11/Ujumisvoistluste-pildid-4-1.jpg
END:VEVENT
END:VCALENDAR